BEGIN:VCALENDAR
VERSION:2.0
PRODID:-// - ECPv6.15.20//NONSGML v1.0//EN
CALSCALE:GREGORIAN
METHOD:PUBLISH
X-ORIGINAL-URL:https://ortenauerkulturplattform.org
X-WR-CALDESC: için etkinlikler
REFRESH-INTERVAL;VALUE=DURATION:PT1H
X-Robots-Tag:noindex
X-PUBLISHED-TTL:PT1H
BEGIN:VTIMEZONE
TZID:UTC
BEGIN:STANDARD
TZOFFSETFROM:+0000
TZOFFSETTO:+0000
TZNAME:UTC
DTSTART:20240101T000000
END:STANDARD
END:VTIMEZONE
BEGIN:VEVENT
DTSTART;TZID=UTC:20251108T080000
DTEND;TZID=UTC:20251113T233000
DTSTAMP:20260421T102547
CREATED:20251108T162744Z
LAST-MODIFIED:20251109T122223Z
UID:412-1762588800-1763076600@ortenauerkulturplattform.org
SUMMARY:Lahmacun Siparişi
DESCRIPTION:El yapımı nefis lahmacun siparişinizi vermek için acele ediniz. \nLahmacun fiyat: 3 Euro \nLahmacun siparişlerinizi 8 Kasım – 13 Kasım arasında sitemiz üzerinden verebilirsiniz. \nLahmacun siparişinizi Kültür Merkezimizden 15 Kasım Cumartesi teslim alabilirsiniz. \nÖdemeler teslimat sırasında alınacaktır. \nStoklarımız sınırlıdır. \n\n\n\n\n  \n    \n  \n \n\n  \n\n \nWhatsapp\n\n\n    \n    \n\n\n	\n	\n\n \nTwitter\n\n\n  \n    \n  \n \n\n  \n\n \nFacebook
URL:https://ortenauerkulturplattform.org/etkinlik/lahmacun-siparisi/
LOCATION:Kültür Merkezi\, Robert Bosch Str. 2\, Offenburg\, Baden-Württemberg\, 77656\, Germany
CATEGORIES:Kermes
ATTACH;FMTTYPE=image/jpeg:https://ortenauerkulturplattform.org/wp-content/uploads/2025/11/lahmacun-e1762622019294.jpg
END:VEVENT
END:VCALENDAR