BEGIN:VCALENDAR
VERSION:2.0
PRODID:-// - ECPv6.15.20//NONSGML v1.0//EN
CALSCALE:GREGORIAN
METHOD:PUBLISH
X-ORIGINAL-URL:https://ortenauerkulturplattform.org
X-WR-CALDESC: için etkinlikler
REFRESH-INTERVAL;VALUE=DURATION:PT1H
X-Robots-Tag:noindex
X-PUBLISHED-TTL:PT1H
BEGIN:VTIMEZONE
TZID:UTC
BEGIN:STANDARD
TZOFFSETFROM:+0000
TZOFFSETTO:+0000
TZNAME:UTC
DTSTART:20240101T000000
END:STANDARD
END:VTIMEZONE
BEGIN:VEVENT
DTSTART;TZID=UTC:20250822T153000
DTEND;TZID=UTC:20250822T170000
DTSTAMP:20260421T144932
CREATED:20251026T172129Z
LAST-MODIFIED:20251026T172728Z
UID:382-1755876600-1755882000@ortenauerkulturplattform.org
SUMMARY:Unsere Spätsommer-Events!
DESCRIPTION:🌞 Der Sommer geht zu Ende – aber wir feiern weiter!\nMit Kultur\, Kunst & Gemeinschaft freuen wir uns auf euch. \n📅 Save the Dates:\n✨ 22.08.– Lahr | Kalligrafie-Workshop (mit @freundeskreis.fluechtlinge )\n✨ 30.08.– Lahr | Literatur im Gespräch in der Natur (mit @freundeskreis.fluechtlinge )\n✨ 31.08. – Ortenaukreis | Traditionelles Picknick 🌳 \nKommt vorbei\, macht mit & genießt die Zeit mit uns! \n\n\n\n\n  \n    \n  \n \n\n  \n\n \nWhatsapp\n\n\n    \n    \n\n\n	\n	\n\n \nTwitter\n\n\n  \n    \n  \n \n\n  \n\n \nFacebook
URL:https://ortenauerkulturplattform.org/etkinlik/unsere-spatsommer-events/
CATEGORIES:Kermes
ATTACH;FMTTYPE=image/png:https://ortenauerkulturplattform.org/wp-content/uploads/2025/10/picnic-1.png
END:VEVENT
BEGIN:VEVENT
DTSTART;TZID=UTC:20250830T100000
DTEND;TZID=UTC:20250830T170000
DTSTAMP:20260421T144932
CREATED:20251026T171904Z
LAST-MODIFIED:20251026T171904Z
UID:379-1756548000-1756573200@ortenauerkulturplattform.org
SUMMARY:Lesetreffen im Freien
DESCRIPTION:In gemütlicher Atmosphäre lesen wir gemeinsam unsere Bücher und sprechen anschließend über zwei ausgewählte Kurzgeschichten. 🌿☕️ \n📅 30.08.2025\n📍 Grillplatz Tretenhot\, Seelbach \n🎁 Es erwarten euch kleine Snacks\, Getränke und eine Überraschung für alle Teilnehmenden.\nBringt einfach ein Buch in eurer Sprache mit und macht mit! \nKommt vorbei – lesen\, teilen und gemeinsam genießen! \n\n\n\n\n  \n    \n  \n \n\n  \n\n \nWhatsapp\n\n\n    \n    \n\n\n	\n	\n\n \nTwitter\n\n\n  \n    \n  \n \n\n  \n\n \nFacebook
URL:https://ortenauerkulturplattform.org/etkinlik/lesetreffen-im-freien/
CATEGORIES:Etkinlik
ATTACH;FMTTYPE=image/png:https://ortenauerkulturplattform.org/wp-content/uploads/2025/10/lesetreffen-1.png
END:VEVENT
END:VCALENDAR