BEGIN:VCALENDAR
VERSION:2.0
PRODID:-// - ECPv6.15.20//NONSGML v1.0//EN
CALSCALE:GREGORIAN
METHOD:PUBLISH
X-ORIGINAL-URL:https://ortenauerkulturplattform.org
X-WR-CALDESC: için etkinlikler
REFRESH-INTERVAL;VALUE=DURATION:PT1H
X-Robots-Tag:noindex
X-PUBLISHED-TTL:PT1H
BEGIN:VTIMEZONE
TZID:UTC
BEGIN:STANDARD
TZOFFSETFROM:+0000
TZOFFSETTO:+0000
TZNAME:UTC
DTSTART:20240101T000000
END:STANDARD
END:VTIMEZONE
BEGIN:VEVENT
DTSTART;TZID=UTC:20251005T113000
DTEND;TZID=UTC:20251005T130000
DTSTAMP:20260421T114638
CREATED:20251026T140711Z
LAST-MODIFIED:20251026T143723Z
UID:367-1759663800-1759669200@ortenauerkulturplattform.org
SUMMARY:Kermes
DESCRIPTION:⏰ Kermes: 11:30 Uhr – Köstliche Speisen und schöne Momente \nMehr Infos: www.ortenauekulturplatform.org \nKommt vorbei\, lasst uns über Spiritualität und Werte sprechen und einen herrlichen Tag verbringen! \n\n\n\n\n  \n    \n  \n \n\n  \n\n \nWhatsapp\n\n\n    \n    \n\n\n	\n	\n\n \nTwitter\n\n\n  \n    \n  \n \n\n  \n\n \nFacebook
URL:https://ortenauerkulturplattform.org/etkinlik/kermes/
LOCATION:Kültür Merkezi\, Robert Bosch Str. 2\, Offenburg\, Baden-Württemberg\, 77656\, Germany
CATEGORIES:Kermes
ATTACH;FMTTYPE=image/jpeg:https://ortenauerkulturplattform.org/wp-content/uploads/2025/10/kermes.jpeg
END:VEVENT
BEGIN:VEVENT
DTSTART;TZID=UTC:20251005T133000
DTEND;TZID=UTC:20251005T170000
DTSTAMP:20260421T114638
CREATED:20251026T141245Z
LAST-MODIFIED:20251026T171630Z
UID:370-1759671000-1759683600@ortenauerkulturplattform.org
SUMMARY:Hüseyin Yağmur Semineri
DESCRIPTION:Über Spiritualität und Werte Seminar & Kermes \n✨ Liebe Freunde\, wir freuen uns auf euch am 5. Oktober\, Sonntag! \n⏰ Kermes: 11:30 Uhr – Köstliche Speisen und schöne Momente \n🍲 Seminar: 13:30 Uhr – Hüseyin Yağmur (Theologischer) \n📍 Mehr Infos: www.ortenauekulturplatform.org \nKommt vorbei\, lasst uns über Spiritualität und Werte sprechen und einen herrlichen Tag verbringen! \n\n\n\n\n  \n    \n  \n \n\n  \n\n \nWhatsapp\n\n\n    \n    \n\n\n	\n	\n\n \nTwitter\n\n\n  \n    \n  \n \n\n  \n\n \nFacebook
URL:https://ortenauerkulturplattform.org/etkinlik/seminer/
LOCATION:Kültür Merkezi\, Robert Bosch Str. 2\, Offenburg\, Baden-Württemberg\, 77656\, Germany
CATEGORIES:Etkinlik
ATTACH;FMTTYPE=image/png:https://ortenauerkulturplattform.org/wp-content/uploads/2025/10/huseyin-yagmur-1.png
END:VEVENT
END:VCALENDAR