BEGIN:VCALENDAR
VERSION:2.0
PRODID:-// - ECPv6.15.20//NONSGML v1.0//EN
CALSCALE:GREGORIAN
METHOD:PUBLISH
X-ORIGINAL-URL:https://ortenauerkulturplattform.org
X-WR-CALDESC: için etkinlikler
REFRESH-INTERVAL;VALUE=DURATION:PT1H
X-Robots-Tag:noindex
X-PUBLISHED-TTL:PT1H
BEGIN:VTIMEZONE
TZID:Europe/Paris
BEGIN:DAYLIGHT
TZOFFSETFROM:+0100
TZOFFSETTO:+0200
TZNAME:CEST
DTSTART:20240331T010000
END:DAYLIGHT
BEGIN:STANDARD
TZOFFSETFROM:+0200
TZOFFSETTO:+0100
TZNAME:CET
DTSTART:20241027T010000
END:STANDARD
BEGIN:DAYLIGHT
TZOFFSETFROM:+0100
TZOFFSETTO:+0200
TZNAME:CEST
DTSTART:20250330T010000
END:DAYLIGHT
BEGIN:STANDARD
TZOFFSETFROM:+0200
TZOFFSETTO:+0100
TZNAME:CET
DTSTART:20251026T010000
END:STANDARD
BEGIN:DAYLIGHT
TZOFFSETFROM:+0100
TZOFFSETTO:+0200
TZNAME:CEST
DTSTART:20260329T010000
END:DAYLIGHT
BEGIN:STANDARD
TZOFFSETFROM:+0200
TZOFFSETTO:+0100
TZNAME:CET
DTSTART:20261025T010000
END:STANDARD
END:VTIMEZONE
BEGIN:VEVENT
DTSTART;TZID=Europe/Paris:20251115T120000
DTEND;TZID=Europe/Paris:20251115T140000
DTSTAMP:20260419T213411
CREATED:20251109T200205Z
LAST-MODIFIED:20251109T200205Z
UID:652-1763208000-1763215200@ortenauerkulturplattform.org
SUMMARY:17. Uluslararası Çorba Festivali
DESCRIPTION:Değerli üyelerimiz\,\nOrtenauer Kulturplattform e.V. olarak bu yıl Lahr’da düzenlenen 17. Uluslararası Çorba Festivalinde biz de yerimizi alıyoruz! \nFestivalde standımızla hazır bulunacak\, çeşitli yiyecek ve içecek satışları yaparak hem kültürümüzü tanıtacak hem de derneğimize katkı sağlayacağız. \nBu güzel etkinlikte sizleri de standımıza bekleriz. Katılımınız ve desteğiniz bizim için çok değerli. 💛 \n📍 Yer: Lahr – Mehrzweckhalle Im Bürgerpark\n⏰ Tarih-Saat: 15 Kasım 2025 Cumartesi\, 12:00–14:00 \nBirlikte daha güzel etkinliklerde buluşmak dileğiyle!\nOrtenauer Kulturplattform e.V. \n\n\n\n\n  \n    \n  \n \n\n  \n\n \nWhatsapp\n\n\n    \n    \n\n\n	\n	\n\n \nTwitter\n\n\n  \n    \n  \n \n\n  \n\n \nFacebook
URL:https://ortenauerkulturplattform.org/etkinlik/17-uluslararasi-corba-festivali/
LOCATION:Lahr – Mehrzweckhalle Im Bürgerpark\, Mehrzweckhalle Im Bürgerpark\, Lahr\, Germany
CATEGORIES:Etkinlik
ATTACH;FMTTYPE=image/jpeg:https://ortenauerkulturplattform.org/wp-content/uploads/2025/11/suppenfest-e1762718508811.jpeg
END:VEVENT
END:VCALENDAR