BEGIN:VCALENDAR
VERSION:2.0
PRODID:-// - ECPv6.15.20//NONSGML v1.0//EN
CALSCALE:GREGORIAN
METHOD:PUBLISH
X-ORIGINAL-URL:https://ortenauerkulturplattform.org
X-WR-CALDESC: için etkinlikler
REFRESH-INTERVAL;VALUE=DURATION:PT1H
X-Robots-Tag:noindex
X-PUBLISHED-TTL:PT1H
BEGIN:VTIMEZONE
TZID:UTC
BEGIN:STANDARD
TZOFFSETFROM:+0000
TZOFFSETTO:+0000
TZNAME:UTC
DTSTART:20240101T000000
END:STANDARD
END:VTIMEZONE
BEGIN:VTIMEZONE
TZID:Europe/Paris
BEGIN:DAYLIGHT
TZOFFSETFROM:+0100
TZOFFSETTO:+0200
TZNAME:CEST
DTSTART:20240331T010000
END:DAYLIGHT
BEGIN:STANDARD
TZOFFSETFROM:+0200
TZOFFSETTO:+0100
TZNAME:CET
DTSTART:20241027T010000
END:STANDARD
BEGIN:DAYLIGHT
TZOFFSETFROM:+0100
TZOFFSETTO:+0200
TZNAME:CEST
DTSTART:20250330T010000
END:DAYLIGHT
BEGIN:STANDARD
TZOFFSETFROM:+0200
TZOFFSETTO:+0100
TZNAME:CET
DTSTART:20251026T010000
END:STANDARD
BEGIN:DAYLIGHT
TZOFFSETFROM:+0100
TZOFFSETTO:+0200
TZNAME:CEST
DTSTART:20260329T010000
END:DAYLIGHT
BEGIN:STANDARD
TZOFFSETFROM:+0200
TZOFFSETTO:+0100
TZNAME:CET
DTSTART:20261025T010000
END:STANDARD
END:VTIMEZONE
BEGIN:VEVENT
DTSTART;TZID=UTC:20251101T100000
DTEND;TZID=UTC:20251102T120000
DTSTAMP:20260419T183927
CREATED:20251026T134645Z
LAST-MODIFIED:20251027T184928Z
UID:362-1761991200-1762084800@ortenauerkulturplattform.org
SUMMARY:B1 Deutschkurs
DESCRIPTION:DTZ B1 sınavına hazırlık kursumuz her hafta Cumartesi-Pazar günleri Kültür Merkezimizde alanında uzman eğitmenlerimiz tarafından yüz yüze sınıf ortamında verilmektedir. \n\n\n\n\n  \n    \n  \n \n\n  \n\n \nWhatsapp\n\n\n    \n    \n\n\n	\n	\n\n \nTwitter\n\n\n  \n    \n  \n \n\n  \n\n \nFacebook
URL:https://ortenauerkulturplattform.org/etkinlik/b1-deutschkurs/
LOCATION:Kültür Merkezi\, Robert Bosch Str. 2\, Offenburg\, Baden-Württemberg\, 77656\, Germany
CATEGORIES:Kurs
ATTACH;FMTTYPE=image/webp:https://ortenauerkulturplattform.org/wp-content/uploads/2025/10/NASLOVNA2-1024x726-1-e1761489969615.webp
END:VEVENT
BEGIN:VEVENT
DTSTART;TZID=UTC:20251108T100000
DTEND;TZID=UTC:20251109T120000
DTSTAMP:20260419T183927
CREATED:20251102T085627Z
LAST-MODIFIED:20251102T090425Z
UID:401-1762596000-1762689600@ortenauerkulturplattform.org
SUMMARY:B1 Deutschkurs
DESCRIPTION:DTZ B1 sınavına hazırlık kursumuz her hafta Cumartesi-Pazar günleri Kültür Merkezimizde alanında uzman eğitmenlerimiz tarafından yüz yüze sınıf ortamında verilmektedir. \n\n\n\n\n  \n    \n  \n \n\n  \n\n \nWhatsapp\n\n\n    \n    \n\n\n	\n	\n\n \nTwitter\n\n\n  \n    \n  \n \n\n  \n\n \nFacebook
URL:https://ortenauerkulturplattform.org/etkinlik/b1-deutschkurs-2/
LOCATION:Kültür Merkezi\, Robert Bosch Str. 2\, Offenburg\, Baden-Württemberg\, 77656\, Germany
CATEGORIES:Kurs
ATTACH;FMTTYPE=image/webp:https://ortenauerkulturplattform.org/wp-content/uploads/2025/10/NASLOVNA2-1024x726-1-e1761489969615.webp
END:VEVENT
BEGIN:VEVENT
DTSTART;TZID=UTC:20251115T100000
DTEND;TZID=UTC:20251116T120000
DTSTAMP:20260419T183927
CREATED:20251102T090401Z
LAST-MODIFIED:20251102T090401Z
UID:404-1763200800-1763294400@ortenauerkulturplattform.org
SUMMARY:B1 Deutschkurs
DESCRIPTION:DTZ B1 sınavına hazırlık kursumuz her hafta Cumartesi-Pazar günleri Kültür Merkezimizde alanında uzman eğitmenlerimiz tarafından yüz yüze sınıf ortamında verilmektedir. \n\n\n\n\n  \n    \n  \n \n\n  \n\n \nWhatsapp\n\n\n    \n    \n\n\n	\n	\n\n \nTwitter\n\n\n  \n    \n  \n \n\n  \n\n \nFacebook
URL:https://ortenauerkulturplattform.org/etkinlik/b1-deutschkurs-3/
LOCATION:Kültür Merkezi\, Robert Bosch Str. 2\, Offenburg\, Baden-Württemberg\, 77656\, Germany
CATEGORIES:Kurs
ATTACH;FMTTYPE=image/webp:https://ortenauerkulturplattform.org/wp-content/uploads/2025/10/NASLOVNA2-1024x726-1-e1761489969615.webp
END:VEVENT
BEGIN:VEVENT
DTSTART;TZID=Europe/Paris:20251122T100000
DTEND;TZID=Europe/Paris:20251123T120000
DTSTAMP:20260419T183927
CREATED:20251116T093324Z
LAST-MODIFIED:20251116T093324Z
UID:966-1763805600-1763899200@ortenauerkulturplattform.org
SUMMARY:B1 Deutschkurs
DESCRIPTION:DTZ B1 sınavına hazırlık kursumuz her hafta Cumartesi-Pazar günleri Kültür Merkezimizde alanında uzman eğitmenlerimiz tarafından yüz yüze sınıf ortamında verilmektedir. \n\n\n\n\n  \n    \n  \n \n\n  \n\n \nWhatsapp\n\n\n    \n    \n\n\n	\n	\n\n \nTwitter\n\n\n  \n    \n  \n \n\n  \n\n \nFacebook
URL:https://ortenauerkulturplattform.org/etkinlik/b1-deutschkurs-4/
LOCATION:Kültür Merkezi\, Robert Bosch Str. 2\, Offenburg\, Baden-Württemberg\, 77656\, Germany
CATEGORIES:Kurs
ATTACH;FMTTYPE=image/webp:https://ortenauerkulturplattform.org/wp-content/uploads/2025/10/NASLOVNA2-1024x726-1-e1761489969615.webp
END:VEVENT
BEGIN:VEVENT
DTSTART;TZID=Europe/Paris:20251129T100000
DTEND;TZID=Europe/Paris:20251130T120000
DTSTAMP:20260419T183927
CREATED:20251116T093558Z
LAST-MODIFIED:20251116T093558Z
UID:968-1764410400-1764504000@ortenauerkulturplattform.org
SUMMARY:B1 Deutschkurs
DESCRIPTION:DTZ B1 sınavına hazırlık kursumuz her hafta Cumartesi-Pazar günleri Kültür Merkezimizde alanında uzman eğitmenlerimiz tarafından yüz yüze sınıf ortamında verilmektedir. \n\n\n\n\n  \n    \n  \n \n\n  \n\n \nWhatsapp\n\n\n    \n    \n\n\n	\n	\n\n \nTwitter\n\n\n  \n    \n  \n \n\n  \n\n \nFacebook
URL:https://ortenauerkulturplattform.org/etkinlik/b1-deutschkurs-5/
LOCATION:Kültür Merkezi\, Robert Bosch Str. 2\, Offenburg\, Baden-Württemberg\, 77656\, Germany
CATEGORIES:Kurs
ATTACH;FMTTYPE=image/webp:https://ortenauerkulturplattform.org/wp-content/uploads/2025/10/NASLOVNA2-1024x726-1-e1761489969615.webp
END:VEVENT
END:VCALENDAR